BEGIN:VCALENDAR
VERSION:2.0
PRODID:icalendar-ruby
CALSCALE:GREGORIAN
METHOD:PUBLISH
BEGIN:VEVENT
DTSTAMP:20260423T160006Z
UID:207b68d1-6f1a-49d0-b222-deda19d97d4f
DTSTART:20240308T180000
DTEND:20240310T150000
DESCRIPTION:<p><strong>🌴🍹 Welcome to Bacardi Holiday Club: Copacabana
  Edition! 🍹🌴</strong></p><p><strong>PLEASE NOTE THAT FESTIVAL TICKET
 S ARE <u>SOLD OUT</u>! CAMPING TICKETS DO NOT INCLUDE ACCESS TO THE EVENT.
  </strong></p><p>Join us as we transport you to the heart of Copacabana\, 
 where sun-soaked shores\, vibrant beats\, and an electrifying atmosphere a
 wait.</p><p>At Bacardi Holiday Club: Copacabana Edition\, it's all about a
 n all-inclusive festival experience. </p><p><strong>Opt for one of our con
 venient pre-set tent options:</strong></p><p>🏕️ <span style="color: v
 ar(--tw-prose-bold)\;">Basic Tents:</span> Perfect for those seeking simpl
 icity and comfort.</p><p>🏕️ <span style="color: var(--tw-prose-bold)\
 ;">Comfy Tents:</span> Upgrade your experience with added amenities for a 
 cozy stay.</p><p>🏕️ <span style="color: var(--tw-prose-bold)\;">Luxe 
 Tents:</span> Live the good life with our premium\, fully-equipped luxury 
 tents.</p><p>Join us for an unforgettable weekend where the vibrant energy
  of Copacabana meets the carefree spirit of a Bacardi-fueled holiday. Pack
  your bags\, leave your worries at home\, and come experience the magic of
  Bacardi Holiday Club: Copacabana Edition! 🎉🏖️</p>
LOCATION:Balfour Road\, Balfour\, 2410
SUMMARY:Bacardi Holiday Club 2024 - Camping
URL;VALUE=URI:https://bacardiholidayclub.howler.co.za/BHC2024camping
END:VEVENT
END:VCALENDAR
