BEGIN:VCALENDAR
VERSION:2.0
PRODID:icalendar-ruby
CALSCALE:GREGORIAN
METHOD:PUBLISH
BEGIN:VEVENT
DTSTAMP:20260423T154226Z
UID:b6826fab-99d3-45df-a99d-07a3079593de
DTSTART:20250307T140000
DTEND:20250309T235900
DESCRIPTION:<p><strong>🌴🍹 Welcome to Bacardi Holiday Club: Oasis Edit
 ion! 🍹🌴</strong></p><p><strong>PLEASE NOTE THAT FESTIVAL TICKETS ARE
  </strong><strong><u>SOLD OUT</u>! CAMPING TICKETS DO NOT INCLUDE ACCESS 
 TO THE EVENT.</strong></p><p><span>Join us as we transport you to the hear
 t of Oasis\, where sun-soaked shores\, vibrant beats\, and an electrifying
  atmosphere await.</span></p><p><span>At Bacardi Holiday Club: Oasis Editi
 on\, it's all about an all-inclusive festival experience.</span></p><p><st
 rong>Opt for one of our convenient pre-set tent options:</strong></p><p><s
 pan>🏕️ </span><span style="color: var(--tw-prose-bold)\;">Basic Tent
 s:</span><span> Perfect for those seeking simplicity and comfort.</span><
 /p><p><span>🏕️ </span><span style="color: var(--tw-prose-bold)\;">Co
 mfy Tents:</span><span> Upgrade your experience with added amenities for 
 a cozy stay.</span></p><p><span>🏕️ </span><span style="color: var(--
 tw-prose-bold)\;">Luxe Tents:</span><span> Live the good life with our pr
 emium\, fully-equipped luxury tents.</span></p><p><span>Join us for an unf
 orgettable weekend where the vibrant energy of Oasis meets the carefree sp
 irit of a Bacardi-fueled holiday. Pack your bags\, leave your worries at h
 ome\, and come experience the magic of Bacardi Holiday Club: Oasis Edition
 ! 🎉🏖️</span></p><p><br></p>
LOCATION:Balfour Road\, Balfour\, 2410
SUMMARY:Bacardi Holiday Club 2025 - Camping 
URL;VALUE=URI:https://bacardiholidayclub.howler.co.za/barardiholidayclubcam
 ping
END:VEVENT
END:VCALENDAR
