BEGIN:VCALENDAR
VERSION:2.0
PRODID:icalendar-ruby
CALSCALE:GREGORIAN
METHOD:PUBLISH
BEGIN:VEVENT
DTSTAMP:20260423T155945Z
UID:89566879-42aa-4540-880e-574c45e2890d
DTSTART:20220304T180000
DTEND:20220306T160000
DESCRIPTION:
LOCATION:Balfour Road\, Balfour\, 2410
SUMMARY:Bacardi Holiday Club
URL;VALUE=URI:https://bacardiholidayclub.howler.co.za/summeroflove
END:VEVENT
END:VCALENDAR
